BEGIN:VCALENDAR
VERSION:2.0
PRODID:-//Mikel Piano - ECPv6.15.20//NONSGML v1.0//EN
CALSCALE:GREGORIAN
METHOD:PUBLISH
X-ORIGINAL-URL:https://mikelpiano.com/eu
X-WR-CALDESC:Events for Mikel Piano
REFRESH-INTERVAL;VALUE=DURATION:PT1H
X-Robots-Tag:noindex
X-PUBLISHED-TTL:PT1H
BEGIN:VTIMEZONE
TZID:UTC
BEGIN:STANDARD
TZOFFSETFROM:+0000
TZOFFSETTO:+0000
TZNAME:UTC
DTSTART:20240101T000000
END:STANDARD
END:VTIMEZONE
BEGIN:VEVENT
DTSTART;TZID=UTC:20250606T190000
DTEND;TZID=UTC:20250606T203000
DTSTAMP:20260420T035023
CREATED:20250511T140527Z
LAST-MODIFIED:20250511T140527Z
UID:1875-1749236400-1749241800@mikelpiano.com
SUMMARY:Memoria - Homenaje a Luis Mariano
DESCRIPTION:No os perdáis este concierto de tenor y piano en Getxo. \nEste viernes\, os invitamos a una tarde de música en Getxo. Un plan perfecto para compartir música y emociones en familia. ¡Os esperamos para vivir una experiencia inolvidable!
URL:https://mikelpiano.com/eu/evento/memoria-homenaje-a-luis-mariano/
LOCATION:Iglesia El Redentor Getxo\, Redentor Kalea 1\, Getxo\, Bizkaia\, 48992\, Spain
ATTACH;FMTTYPE=image/jpeg:https://mikelpiano.com/wp-content/uploads/2025/05/kulturklikagenda-1.jpg
ORGANIZER;CN="Mikel Gazta%C3%B1aga":MAILTO:mikelpiano@yahoo.com
END:VEVENT
END:VCALENDAR