BEGIN:VCALENDAR
VERSION:2.0
PRODID:-//Mikel Piano - ECPv6.15.20//NONSGML v1.0//EN
CALSCALE:GREGORIAN
METHOD:PUBLISH
X-WR-CALNAME:Mikel Piano
X-ORIGINAL-URL:https://mikelpiano.com/eu
X-WR-CALDESC:Events for Mikel Piano
REFRESH-INTERVAL;VALUE=DURATION:PT1H
X-Robots-Tag:noindex
X-PUBLISHED-TTL:PT1H
BEGIN:VTIMEZONE
TZID:UTC
BEGIN:STANDARD
TZOFFSETFROM:+0000
TZOFFSETTO:+0000
TZNAME:UTC
DTSTART:20240101T000000
END:STANDARD
END:VTIMEZONE
BEGIN:VEVENT
DTSTART;TZID=UTC:20250906T120000
DTEND;TZID=UTC:20250906T170000
DTSTAMP:20260419T222118
CREATED:20250713T055714Z
LAST-MODIFIED:20250713T055714Z
UID:1916-1757160000-1757178000@mikelpiano.com
SUMMARY:Pianista en boda en Bilbao
DESCRIPTION:La mejor manera de celebrar tu boda en 2025: piano en directo amenizando la ceremonia en un entorno único en Bilbao. Estaremos tocando en formato trío de cuerda + piano en la ceremonia\, y en formato cuarteto de jazz durante el cocktail.
URL:https://mikelpiano.com/eu/evento/pianista-en-boda-en-bilbao/
LOCATION:Iglesia San Vicente Bilbao\, Pza San Vicente 3\, Bilbao\, Bizkaia\, 48001\, Spain
ATTACH;FMTTYPE=image/png:https://mikelpiano.com/wp-content/uploads/2024/12/Captura-desde-2024-12-02-15-26-40.png
ORGANIZER;CN="Mikel Gazta%C3%B1aga":MAILTO:mikelpiano@yahoo.com
END:VEVENT
END:VCALENDAR