BEGIN:VCALENDAR
VERSION:2.0
PRODID:-//Mikel Piano - ECPv6.15.20//NONSGML v1.0//EN
CALSCALE:GREGORIAN
METHOD:PUBLISH
X-ORIGINAL-URL:https://mikelpiano.com/eu
X-WR-CALDESC:Events for Mikel Piano
REFRESH-INTERVAL;VALUE=DURATION:PT1H
X-Robots-Tag:noindex
X-PUBLISHED-TTL:PT1H
BEGIN:VTIMEZONE
TZID:UTC
BEGIN:STANDARD
TZOFFSETFROM:+0000
TZOFFSETTO:+0000
TZNAME:UTC
DTSTART:20240101T000000
END:STANDARD
END:VTIMEZONE
BEGIN:VEVENT
DTSTART;TZID=UTC:20250910T020000
DTEND;TZID=UTC:20250910T170000
DTSTAMP:20260419T223615
CREATED:20250906T204404Z
LAST-MODIFIED:20250906T204404Z
UID:1956-1757469600-1757523600@mikelpiano.com
SUMMARY:Amenización de boda en Berriz
DESCRIPTION:Este miércoles estaremos tocando a dúo piano+voz en una boda muy especial en Berriz (Bizkaia). ¡La mejor manera de pasar unos momentos inolvidables acompañados de buena música!
URL:https://mikelpiano.com/eu/evento/amenizacion-de-boda-en-berriz/
LOCATION:Berriz\, Berriz\, Bizkaia\, Spain
ATTACH;FMTTYPE=image/jpeg:https://mikelpiano.com/wp-content/uploads/2024/12/close-up-piano-front-performance-space-scaled.jpg
ORGANIZER;CN="Mikel Gazta%C3%B1aga":MAILTO:mikelpiano@yahoo.com
END:VEVENT
END:VCALENDAR