BEGIN:VCALENDAR
VERSION:2.0
PRODID:-//Mikel Piano - ECPv6.15.20//NONSGML v1.0//EN
CALSCALE:GREGORIAN
METHOD:PUBLISH
X-ORIGINAL-URL:https://mikelpiano.com/eu
X-WR-CALDESC:Events for Mikel Piano
REFRESH-INTERVAL;VALUE=DURATION:PT1H
X-Robots-Tag:noindex
X-PUBLISHED-TTL:PT1H
BEGIN:VTIMEZONE
TZID:UTC
BEGIN:STANDARD
TZOFFSETFROM:+0000
TZOFFSETTO:+0000
TZNAME:UTC
DTSTART:20240101T000000
END:STANDARD
END:VTIMEZONE
BEGIN:VEVENT
DTSTART;TZID=UTC:20251004T130000
DTEND;TZID=UTC:20251004T150000
DTSTAMP:20260419T223508
CREATED:20250713T062557Z
LAST-MODIFIED:20250713T063353Z
UID:1931-1759582800-1759590000@mikelpiano.com
SUMMARY:Pianista en boda en Galdames
DESCRIPTION:La mejor manera de celebrar tu boda en 2025: piano en directo amenizando la ceremonia en un entorno único en Galdames. Estaremos tocando en formato dúo de cello + piano en la ceremonia.
URL:https://mikelpiano.com/eu/evento/pianista-en-boda-en-galdames/
LOCATION:Torre Loizaga\, Bº Concejuelo\, Galdames\, Bizkaia\, 48191\, Spain
ATTACH;FMTTYPE=image/jpeg:https://mikelpiano.com/wp-content/uploads/2025/07/Aerea-1.jpg
ORGANIZER;CN="Mikel Gazta%C3%B1aga":MAILTO:mikelpiano@yahoo.com
END:VEVENT
BEGIN:VEVENT
DTSTART;TZID=UTC:20251004T193000
DTEND;TZID=UTC:20251004T210000
DTSTAMP:20260419T223508
CREATED:20251001T053744Z
LAST-MODIFIED:20251001T053744Z
UID:1984-1759606200-1759611600@mikelpiano.com
SUMMARY:Concierto BiHotsak + Ars Viva Bilbao
DESCRIPTION:No os perdáis este concierto de coros en Llodio \nEste sábado\, os invitamos a una tarde-noche de música coral en  Bilbao (Indautxu). Un plan perfecto para compartir música y emociones en familia. ¡Os esperamos para vivir una experiencia inolvidable!
URL:https://mikelpiano.com/eu/evento/concierto-bihotsak-bilbao/
LOCATION:iglesia colegio jesuitak\, Dr areilza 32\, Bilbao\, Bizkaia\, Spain
ATTACH;FMTTYPE=image/png:https://mikelpiano.com/wp-content/uploads/2025/07/Aerea-1.png
ORGANIZER;CN="Mikel Gazta%C3%B1aga":MAILTO:mikelpiano@yahoo.com
END:VEVENT
END:VCALENDAR