BEGIN:VCALENDAR
VERSION:2.0
PRODID:-//Mikel Piano - ECPv6.15.20//NONSGML v1.0//EN
CALSCALE:GREGORIAN
METHOD:PUBLISH
X-WR-CALNAME:Mikel Piano
X-ORIGINAL-URL:https://mikelpiano.com/eu
X-WR-CALDESC:Events for Mikel Piano
REFRESH-INTERVAL;VALUE=DURATION:PT1H
X-Robots-Tag:noindex
X-PUBLISHED-TTL:PT1H
BEGIN:VTIMEZONE
TZID:UTC
BEGIN:STANDARD
TZOFFSETFROM:+0000
TZOFFSETTO:+0000
TZNAME:UTC
DTSTART:20240101T000000
END:STANDARD
END:VTIMEZONE
BEGIN:VEVENT
DTSTART;TZID=UTC:20251018T030000
DTEND;TZID=UTC:20251018T170000
DTSTAMP:20260419T203332
CREATED:20251015T054027Z
LAST-MODIFIED:20251015T054027Z
UID:2000-1760756400-1760806800@mikelpiano.com
SUMMARY:Swingtronics en boda Marqués de Riscal
DESCRIPTION:La mejor manera de poner música en directo en tu boda: Swingtronics.
URL:https://mikelpiano.com/eu/evento/swingtronics-en-boda-riscal/
LOCATION:Marqués de Riscal\, Torrea 1\, Elciego\, Araba\, 01340\, Spain
ATTACH;FMTTYPE=image/jpeg:https://mikelpiano.com/wp-content/uploads/2025/09/538615260_1207603598060839_8234066215210827716_n-2.jpg
ORGANIZER;CN="Mikel Gazta%C3%B1aga":MAILTO:mikelpiano@yahoo.com
END:VEVENT
END:VCALENDAR