BEGIN:VCALENDAR
VERSION:2.0
PRODID:-//Mikel Piano - ECPv6.15.20//NONSGML v1.0//EN
CALSCALE:GREGORIAN
METHOD:PUBLISH
X-WR-CALNAME:Mikel Piano
X-ORIGINAL-URL:https://mikelpiano.com/eu
X-WR-CALDESC:Events for Mikel Piano
REFRESH-INTERVAL;VALUE=DURATION:PT1H
X-Robots-Tag:noindex
X-PUBLISHED-TTL:PT1H
BEGIN:VTIMEZONE
TZID:UTC
BEGIN:STANDARD
TZOFFSETFROM:+0000
TZOFFSETTO:+0000
TZNAME:UTC
DTSTART:20250101T000000
END:STANDARD
END:VTIMEZONE
BEGIN:VEVENT
DTSTART;TZID=UTC:20260117T180000
DTEND;TZID=UTC:20260117T193000
DTSTAMP:20260419T152212
CREATED:20251221T144006Z
LAST-MODIFIED:20260115T071742Z
UID:2214-1768672800-1768678200@mikelpiano.com
SUMMARY:Passione per l'Italia - en Getxo
DESCRIPTION:No os perdáis este concierto de tenor y piano en Getxo. \nEste sábado\, os invitamos a una tarde de música en Getxo. Un plan perfecto para compartir música y emociones en familia. ¡Os esperamos para vivir una experiencia inolvidable!
URL:https://mikelpiano.com/eu/evento/passione-getxo/
LOCATION:Iglesia El Redentor Getxo\, Redentor Kalea 1\, Getxo\, Bizkaia\, 48992\, Spain
ATTACH;FMTTYPE=image/jpeg:https://mikelpiano.com/wp-content/uploads/2025/12/IMG_2795.jpeg
ORGANIZER;CN="Mikel Gazta%C3%B1aga":MAILTO:mikelpiano@yahoo.com
END:VEVENT
END:VCALENDAR