BEGIN:VCALENDAR
VERSION:2.0
PRODID:-//Mikel Piano - ECPv6.15.20//NONSGML v1.0//EN
CALSCALE:GREGORIAN
METHOD:PUBLISH
X-ORIGINAL-URL:https://mikelpiano.com
X-WR-CALDESC:Eventos para Mikel Piano
REFRESH-INTERVAL;VALUE=DURATION:PT1H
X-Robots-Tag:noindex
X-PUBLISHED-TTL:PT1H
BEGIN:VTIMEZONE
TZID:UTC
BEGIN:STANDARD
TZOFFSETFROM:+0000
TZOFFSETTO:+0000
TZNAME:UTC
DTSTART:20230101T000000
END:STANDARD
END:VTIMEZONE
BEGIN:VEVENT
DTSTART;TZID=UTC:20241231T200000
DTEND;TZID=UTC:20241231T210000
DTSTAMP:20260422T103239
CREATED:20241229T100810Z
LAST-MODIFIED:20241229T100810Z
UID:1785-1735675200-1735678800@mikelpiano.com
SUMMARY:Cocktail Gala Nochevieja
DESCRIPTION:La mejor manera de celebrar el fin de año 2024: piano en directo amenizando el cocktail de la gala de nochevieja en un entorno único en Bilbao.
URL:https://mikelpiano.com/evento/cocktail-gala-nochevieja/
LOCATION:Hotel Occidental Bilbao\, Zumalacarregui 40\, Bilbao\, Bizkaia\, 48006\, Spain
ATTACH;FMTTYPE=image/jpeg:https://mikelpiano.com/wp-content/uploads/2024/12/Hotel-Occidental-Bilbao.jpg
END:VEVENT
END:VCALENDAR