BEGIN:VCALENDAR
VERSION:2.0
PRODID:-//Mikel Piano - ECPv6.15.20//NONSGML v1.0//EN
CALSCALE:GREGORIAN
METHOD:PUBLISH
X-WR-CALNAME:Mikel Piano
X-ORIGINAL-URL:https://mikelpiano.com
X-WR-CALDESC:Eventos para Mikel Piano
REFRESH-INTERVAL;VALUE=DURATION:PT1H
X-Robots-Tag:noindex
X-PUBLISHED-TTL:PT1H
BEGIN:VTIMEZONE
TZID:UTC
BEGIN:STANDARD
TZOFFSETFROM:+0000
TZOFFSETTO:+0000
TZNAME:UTC
DTSTART:20240101T000000
END:STANDARD
END:VTIMEZONE
BEGIN:VEVENT
DTSTART;TZID=UTC:20250117T100000
DTEND;TZID=UTC:20250117T130000
DTSTAMP:20260422T102533
CREATED:20241222T075239Z
LAST-MODIFIED:20241222T075239Z
UID:1769-1737108000-1737118800@mikelpiano.com
SUMMARY:Taller / ¿qué hay dentro de mi piano?
DESCRIPTION:Aprenderemos sobre mecánica del piano\, Sus partes\, materiales\, cuidado\, y limpieza\, afinación…
URL:https://mikelpiano.com/evento/taller-que-hay-dentro-de-mi-piano/
LOCATION:BilbaoMusika\, Mar Mediterráneo 2\, Bilbao\, Bizkaia\, Spain
ATTACH;FMTTYPE=image/jpeg:https://mikelpiano.com/wp-content/uploads/2024/12/ekta2503.jpg
END:VEVENT
END:VCALENDAR