BEGIN:VCALENDAR
VERSION:2.0
PRODID:-//Mikel Piano - ECPv6.15.20//NONSGML v1.0//EN
CALSCALE:GREGORIAN
METHOD:PUBLISH
X-ORIGINAL-URL:https://mikelpiano.com
X-WR-CALDESC:Eventos para Mikel Piano
REFRESH-INTERVAL;VALUE=DURATION:PT1H
X-Robots-Tag:noindex
X-PUBLISHED-TTL:PT1H
BEGIN:VTIMEZONE
TZID:UTC
BEGIN:STANDARD
TZOFFSETFROM:+0000
TZOFFSETTO:+0000
TZNAME:UTC
DTSTART:20240101T000000
END:STANDARD
END:VTIMEZONE
BEGIN:VEVENT
DTSTART;TZID=UTC:20250308T183000
DTEND;TZID=UTC:20250308T200000
DTSTAMP:20260420T072039
CREATED:20250123T101740Z
LAST-MODIFIED:20250228T095903Z
UID:1792-1741458600-1741464000@mikelpiano.com
SUMMARY:Concierto BiHotsak "8M" Menagarai
DESCRIPTION:No os perdáis este concierto de coros en Llodio \nEste sábado\, os invitamos a una tarde de música coral en  Menagarai. Un plan perfecto para compartir música y emociones en familia. ¡Os esperamos para vivir una experiencia inolvidable!
URL:https://mikelpiano.com/evento/concierto-coro-llodio/
LOCATION:Iglesia Menagarai\, Menagarai\, Alava\, 01477\, Spain
ATTACH;FMTTYPE=image/jpeg:https://mikelpiano.com/wp-content/uploads/2025/01/cartel.jpg
ORGANIZER;CN="Mikel Gazta%C3%B1aga":MAILTO:mikelpiano@yahoo.com
END:VEVENT
END:VCALENDAR