BEGIN:VCALENDAR
VERSION:2.0
PRODID:-//Mikel Piano - ECPv6.15.20//NONSGML v1.0//EN
CALSCALE:GREGORIAN
METHOD:PUBLISH
X-ORIGINAL-URL:https://mikelpiano.com
X-WR-CALDESC:Eventos para Mikel Piano
REFRESH-INTERVAL;VALUE=DURATION:PT1H
X-Robots-Tag:noindex
X-PUBLISHED-TTL:PT1H
BEGIN:VTIMEZONE
TZID:UTC
BEGIN:STANDARD
TZOFFSETFROM:+0000
TZOFFSETTO:+0000
TZNAME:UTC
DTSTART:20240101T000000
END:STANDARD
END:VTIMEZONE
BEGIN:VEVENT
DTSTART;TZID=UTC:20250315T140000
DTEND;TZID=UTC:20250315T150000
DTSTAMP:20260420T072121
CREATED:20250123T102341Z
LAST-MODIFIED:20250228T100846Z
UID:1798-1742047200-1742050800@mikelpiano.com
SUMMARY:Pianista en Boda
DESCRIPTION:La mejor manera de celebrar tu boda en 2025: duo de violín y piano en directo amenizando la ceremonia en un entorno único en Bilbao.
URL:https://mikelpiano.com/evento/pianista-en-boda/
LOCATION:Iglesia San Jose Bilbao\, Plaza San Jose 1\, Bilbao\, Bizkaia\, 48009\, Spain
ATTACH;FMTTYPE=image/jpeg:https://mikelpiano.com/wp-content/uploads/2024/12/close-up-piano-front-performance-space-scaled.jpg
ORGANIZER;CN="Mikel Gazta%C3%B1aga":MAILTO:mikelpiano@yahoo.com
END:VEVENT
END:VCALENDAR