BEGIN:VCALENDAR
VERSION:2.0
PRODID:-//Mikel Piano - ECPv6.15.20//NONSGML v1.0//EN
CALSCALE:GREGORIAN
METHOD:PUBLISH
X-ORIGINAL-URL:https://mikelpiano.com
X-WR-CALDESC:Eventos para Mikel Piano
REFRESH-INTERVAL;VALUE=DURATION:PT1H
X-Robots-Tag:noindex
X-PUBLISHED-TTL:PT1H
BEGIN:VTIMEZONE
TZID:UTC
BEGIN:STANDARD
TZOFFSETFROM:+0000
TZOFFSETTO:+0000
TZNAME:UTC
DTSTART:20240101T000000
END:STANDARD
END:VTIMEZONE
BEGIN:VEVENT
DTSTART;TZID=UTC:20250427T200000
DTEND;TZID=UTC:20250427T210000
DTSTAMP:20260420T053947
CREATED:20250209T090744Z
LAST-MODIFIED:20250209T090744Z
UID:1811-1745784000-1745787600@mikelpiano.com
SUMMARY:Cocktail Hotel Occidental Bilbao
DESCRIPTION:La mejor manera de pasar este domingo: piano en directo amenizando el cocktail en un entorno único en Bilbao.
URL:https://mikelpiano.com/evento/cocktail-hotel-occidental-bilbao/
LOCATION:Hotel Occidental Bilbao\, Zumalacarregui 40\, Bilbao\, Bizkaia\, 48006\, Spain
ATTACH;FMTTYPE=image/jpeg:https://mikelpiano.com/wp-content/uploads/2024/12/Hotel-Occidental-Bilbao.jpg
END:VEVENT
END:VCALENDAR