BEGIN:VCALENDAR
VERSION:2.0
PRODID:-//Mikel Piano - ECPv6.15.20//NONSGML v1.0//EN
CALSCALE:GREGORIAN
METHOD:PUBLISH
X-ORIGINAL-URL:https://mikelpiano.com
X-WR-CALDESC:Eventos para Mikel Piano
REFRESH-INTERVAL;VALUE=DURATION:PT1H
X-Robots-Tag:noindex
X-PUBLISHED-TTL:PT1H
BEGIN:VTIMEZONE
TZID:UTC
BEGIN:STANDARD
TZOFFSETFROM:+0000
TZOFFSETTO:+0000
TZNAME:UTC
DTSTART:20240101T000000
END:STANDARD
END:VTIMEZONE
BEGIN:VEVENT
DTSTART;TZID=UTC:20250607T110000
DTEND;TZID=UTC:20250607T110000
DTSTAMP:20260420T020355
CREATED:20250209T110031Z
LAST-MODIFIED:20250511T142131Z
UID:1817-1749294000-1749294000@mikelpiano.com
SUMMARY:Certamen coral con BiHotsak en Vitoria-Gasteiz
DESCRIPTION:No os perdáis este concierto de coros en Vitoria-Gasteiz. \nEste sábado\, os invitamos a una mañana de música coral en  Vitoria-Gasteiz. Un plan perfecto para compartir música y emociones en familia. ¡Os esperamos para vivir una experiencia inolvidable!
URL:https://mikelpiano.com/evento/concierto-bihotsak-vitoria/
LOCATION:Conservatorio de Música Jesús Guridi\, Pl. de la Constitución\, 9\, Vitoria-Gasteiz\, Alava\, 01009\, Spain
ATTACH;FMTTYPE=image/jpeg:https://mikelpiano.com/wp-content/uploads/2025/02/kulturklikagenda.jpg
ORGANIZER;CN="Mikel Gazta%C3%B1aga":MAILTO:mikelpiano@yahoo.com
END:VEVENT
BEGIN:VEVENT
DTSTART;TZID=UTC:20250607T220000
DTEND;TZID=UTC:20250607T233000
DTSTAMP:20260420T020355
CREATED:20250511T135852Z
LAST-MODIFIED:20250522T112244Z
UID:1870-1749333600-1749339000@mikelpiano.com
SUMMARY:Stereo Star Band en Getxo
DESCRIPTION:Este sábado\, tocaremos en una fiesta privada en Getxo. Un plan perfecto compartiendo música y emociones entre amigos. ¡Será una experiencia inolvidable!
URL:https://mikelpiano.com/evento/stereo-star-band/
LOCATION:Jolaseta\, Avda Chopos 18\, Getxo\, Bizkaia\, 48992\, Spain
ATTACH;FMTTYPE=image/png:https://mikelpiano.com/wp-content/uploads/2025/03/IMG_0805.png
ORGANIZER;CN="Mikel Gazta%C3%B1aga":MAILTO:mikelpiano@yahoo.com
END:VEVENT
END:VCALENDAR