BEGIN:VCALENDAR
VERSION:2.0
PRODID:-//Mikel Piano - ECPv6.15.20//NONSGML v1.0//EN
CALSCALE:GREGORIAN
METHOD:PUBLISH
X-ORIGINAL-URL:https://mikelpiano.com
X-WR-CALDESC:Eventos para Mikel Piano
REFRESH-INTERVAL;VALUE=DURATION:PT1H
X-Robots-Tag:noindex
X-PUBLISHED-TTL:PT1H
BEGIN:VTIMEZONE
TZID:UTC
BEGIN:STANDARD
TZOFFSETFROM:+0000
TZOFFSETTO:+0000
TZNAME:UTC
DTSTART:20240101T000000
END:STANDARD
END:VTIMEZONE
BEGIN:VEVENT
DTSTART;TZID=UTC:20250621T130000
DTEND;TZID=UTC:20250621T170000
DTSTAMP:20260420T020420
CREATED:20250402T151243Z
LAST-MODIFIED:20250402T151243Z
UID:1848-1750510800-1750525200@mikelpiano.com
SUMMARY:Pianista en boda en Lekeitio
DESCRIPTION:La mejor manera de celebrar tu boda en 2025: piano en directo amenizando la ceremonia en un entorno único en Lekeitio. Estaremos tocando en formato duo en la ceremonia\, y en formato cuarteto tocando covers durante el cocktail.
URL:https://mikelpiano.com/evento/pianista-en-boda-en-lekeitio/
LOCATION:Lekeitio\, Lekeitio\, Bizkaia\, 48280\, Spain
ATTACH;FMTTYPE=image/png:https://mikelpiano.com/wp-content/uploads/2024/12/Captura-desde-2024-12-02-15-26-40.png
ORGANIZER;CN="Mikel Gazta%C3%B1aga":MAILTO:mikelpiano@yahoo.com
END:VEVENT
BEGIN:VEVENT
DTSTART;TZID=UTC:20250621T193000
DTEND;TZID=UTC:20250621T210000
DTSTAMP:20260420T020420
CREATED:20250520T103028Z
LAST-MODIFIED:20250520T113026Z
UID:1889-1750534200-1750539600@mikelpiano.com
SUMMARY:Amenización "tardeo" Jolaseta 21jun
DESCRIPTION:Estaremos amenizando la terraza del Club Jolaseta en horario tardeo\, con música en directo. Evento privado exclusivo para personas socias del club.
URL:https://mikelpiano.com/evento/amenizacion-tardeo-jolaseta-2/
LOCATION:Jolaseta\, Avda Chopos 18\, Getxo\, Bizkaia\, 48992\, Spain
ATTACH;FMTTYPE=image/jpeg:https://mikelpiano.com/wp-content/uploads/2025/05/jolaseta.jpg
END:VEVENT
END:VCALENDAR