BEGIN:VCALENDAR
VERSION:2.0
PRODID:-//Mikel Piano - ECPv6.15.20//NONSGML v1.0//EN
CALSCALE:GREGORIAN
METHOD:PUBLISH
X-ORIGINAL-URL:https://mikelpiano.com
X-WR-CALDESC:Eventos para Mikel Piano
REFRESH-INTERVAL;VALUE=DURATION:PT1H
X-Robots-Tag:noindex
X-PUBLISHED-TTL:PT1H
BEGIN:VTIMEZONE
TZID:UTC
BEGIN:STANDARD
TZOFFSETFROM:+0000
TZOFFSETTO:+0000
TZNAME:UTC
DTSTART:20240101T000000
END:STANDARD
END:VTIMEZONE
BEGIN:VEVENT
DTSTART;TZID=UTC:20250920T120000
DTEND;TZID=UTC:20250920T170000
DTSTAMP:20260419T203754
CREATED:20250713T062115Z
LAST-MODIFIED:20250713T062115Z
UID:1929-1758369600-1758387600@mikelpiano.com
SUMMARY:Pianista en boda en Bilbao (Abando)
DESCRIPTION:La mejor manera de celebrar tu boda en 2025: piano en directo amenizando la ceremonia en un entorno único en Bilbao. Estaremos tocando en formato dúo de violín + piano en la ceremonia\, y en formato trío de jazz durante el cocktail.
URL:https://mikelpiano.com/evento/pianista-en-boda-en-bilbao-abando/
LOCATION:Iglesia San Vicente Bilbao\, Pza San Vicente 3\, Bilbao\, Bizkaia\, 48001\, Spain
ATTACH;FMTTYPE=image/jpeg:https://mikelpiano.com/wp-content/uploads/2024/12/close-up-piano-front-performance-space-scaled.jpg
ORGANIZER;CN="Mikel Gazta%C3%B1aga":MAILTO:mikelpiano@yahoo.com
END:VEVENT
END:VCALENDAR