BEGIN:VCALENDAR
VERSION:2.0
PRODID:-//Mikel Piano - ECPv6.15.20//NONSGML v1.0//EN
CALSCALE:GREGORIAN
METHOD:PUBLISH
X-WR-CALNAME:Mikel Piano
X-ORIGINAL-URL:https://mikelpiano.com
X-WR-CALDESC:Eventos para Mikel Piano
REFRESH-INTERVAL;VALUE=DURATION:PT1H
X-Robots-Tag:noindex
X-PUBLISHED-TTL:PT1H
BEGIN:VTIMEZONE
TZID:UTC
BEGIN:STANDARD
TZOFFSETFROM:+0000
TZOFFSETTO:+0000
TZNAME:UTC
DTSTART:20240101T000000
END:STANDARD
END:VTIMEZONE
BEGIN:VEVENT
DTSTART;TZID=UTC:20250928T130000
DTEND;TZID=UTC:20250928T143000
DTSTAMP:20260419T203218
CREATED:20250927T063707Z
LAST-MODIFIED:20250927T063707Z
UID:1979-1759064400-1759069800@mikelpiano.com
SUMMARY:Charlie Cosh & Mikel Gaztañaga en Plentzia
DESCRIPTION:Este domingo\, ven a Plentzia a compartir un rato de buena música con nosotros. Podrás escuchar un dúo acústico de guitarra+piano tocando temas clásicos de rock (Creedence\, Beatles\, RollingStones\, Elvis\, Calamaro\, Fito….).
URL:https://mikelpiano.com/evento/charlie-cosh-mikel-gaztanaga-en-plentzia/
LOCATION:Isuskiza Berria\, Isuskiza Auzoa\, Plentzia\, Bizkaia\, 48620\, Spain
ATTACH;FMTTYPE=image/jpeg:https://mikelpiano.com/wp-content/uploads/2025/09/charliecosh.jpg
ORGANIZER;CN="Mikel Gazta%C3%B1aga":MAILTO:mikelpiano@yahoo.com
END:VEVENT
END:VCALENDAR