BEGIN:VCALENDAR
VERSION:2.0
PRODID:-//Mikel Piano - ECPv6.15.20//NONSGML v1.0//EN
CALSCALE:GREGORIAN
METHOD:PUBLISH
X-WR-CALNAME:Mikel Piano
X-ORIGINAL-URL:https://mikelpiano.com
X-WR-CALDESC:Eventos para Mikel Piano
REFRESH-INTERVAL;VALUE=DURATION:PT1H
X-Robots-Tag:noindex
X-PUBLISHED-TTL:PT1H
BEGIN:VTIMEZONE
TZID:UTC
BEGIN:STANDARD
TZOFFSETFROM:+0000
TZOFFSETTO:+0000
TZNAME:UTC
DTSTART:20240101T000000
END:STANDARD
END:VTIMEZONE
BEGIN:VEVENT
DTSTART;TZID=UTC:20251108T120000
DTEND;TZID=UTC:20251108T140000
DTSTAMP:20260419T165940
CREATED:20251005T072501Z
LAST-MODIFIED:20251005T072501Z
UID:1993-1762603200-1762610400@mikelpiano.com
SUMMARY:Pianista en boda en Castro Urdiales
DESCRIPTION:La mejor manera de celebrar tu boda en 2025: piano en directo amenizando la ceremonia en un entorno único en Castro Urdiales. Estaremos tocando en formato dúo de tenor + piano en la ceremonia.
URL:https://mikelpiano.com/evento/pianista-en-boda-en-castro/
LOCATION:Iglesia Santa María Castro Urdiales\, Santa Maria\, Castro Urdiales\, Cantabria\, 39700\, Spain
ATTACH;FMTTYPE=image/jpeg:https://mikelpiano.com/wp-content/uploads/2024/12/music-keys-colored-lighting-blurred-background-scaled.jpg
ORGANIZER;CN="Mikel Gazta%C3%B1aga":MAILTO:mikelpiano@yahoo.com
END:VEVENT
END:VCALENDAR