BEGIN:VCALENDAR
VERSION:2.0
PRODID:-//Mikel Piano - ECPv6.15.20//NONSGML v1.0//EN
CALSCALE:GREGORIAN
METHOD:PUBLISH
X-ORIGINAL-URL:https://mikelpiano.com
X-WR-CALDESC:Eventos para Mikel Piano
REFRESH-INTERVAL;VALUE=DURATION:PT1H
X-Robots-Tag:noindex
X-PUBLISHED-TTL:PT1H
BEGIN:VTIMEZONE
TZID:UTC
BEGIN:STANDARD
TZOFFSETFROM:+0000
TZOFFSETTO:+0000
TZNAME:UTC
DTSTART:20240101T000000
END:STANDARD
END:VTIMEZONE
BEGIN:VEVENT
DTSTART;TZID=UTC:20251122T183000
DTEND;TZID=UTC:20251122T193000
DTSTAMP:20260419T170532
CREATED:20251005T071624Z
LAST-MODIFIED:20251117T112205Z
UID:1987-1763836200-1763839800@mikelpiano.com
SUMMARY:Concierto BiHotsak Okondo
DESCRIPTION:No os perdáis este concierto de coros en Okondo \nEste sábado\, os invitamos a una tarde-noche de música coral en  Okondo. Un plan perfecto para compartir música y emociones en familia. ¡Os esperamos para vivir una experiencia inolvidable! \n  \nAzaroaren 22an\, larunbata\, Okondoko Untzako\nAndra Mariaren Elizan “Ilargi Berriak” kontzertuarekin egongo gara.\nZuen zain egongo gara!\n–\nEl sábado\, 22 de noviembre\, estaremos en la Iglesia Nuestra Señora de Unza de Okondo tendremos concierto “largi Berriak’.\n¡Os esperamos!\n#bihotsaklaudio #bihotsak #asociacioncoralbihotsak\n#asociacioncoral #bihotsakkoralelkartea #okondo #okondokoudala
URL:https://mikelpiano.com/evento/concierto-bihotsak-okondo/
LOCATION:Okondo\, Irabien\, Araba\, 01409\, Spain
ATTACH;FMTTYPE=image/png:https://mikelpiano.com/wp-content/uploads/2025/07/Aerea-1.png
ORGANIZER;CN="Mikel Gazta%C3%B1aga":MAILTO:mikelpiano@yahoo.com
END:VEVENT
END:VCALENDAR