BEGIN:VCALENDAR
VERSION:2.0
PRODID:-//Mikel Piano - ECPv6.15.20//NONSGML v1.0//EN
CALSCALE:GREGORIAN
METHOD:PUBLISH
X-WR-CALNAME:Mikel Piano
X-ORIGINAL-URL:https://mikelpiano.com
X-WR-CALDESC:Eventos para Mikel Piano
REFRESH-INTERVAL;VALUE=DURATION:PT1H
X-Robots-Tag:noindex
X-PUBLISHED-TTL:PT1H
BEGIN:VTIMEZONE
TZID:UTC
BEGIN:STANDARD
TZOFFSETFROM:+0000
TZOFFSETTO:+0000
TZNAME:UTC
DTSTART:20240101T000000
END:STANDARD
END:VTIMEZONE
BEGIN:VEVENT
DTSTART;TZID=UTC:20251212T183000
DTEND;TZID=UTC:20251212T193000
DTSTAMP:20260419T152142
CREATED:20251206T213031Z
LAST-MODIFIED:20251206T213031Z
UID:2194-1765564200-1765567800@mikelpiano.com
SUMMARY:Pianista acompañante en audicion alumnado Leioa
DESCRIPTION:Estaré acompañando a alumnado del conservatorio y escuela de música de Leioa.
URL:https://mikelpiano.com/evento/pianista-acompanante-en-audicion-alumnado-leioa/
LOCATION:Conservatorio Leioa\, Leioa\, Bizkaia\, Spain
ATTACH;FMTTYPE=image/jpeg:https://mikelpiano.com/wp-content/uploads/2025/11/471177364_898153475640182_1125583844297155872_n.jpg
ORGANIZER;CN="Mikel Gazta%C3%B1aga":MAILTO:mikelpiano@yahoo.com
END:VEVENT
END:VCALENDAR