BEGIN:VCALENDAR
VERSION:2.0
PRODID:-//Mikel Piano - ECPv6.15.20//NONSGML v1.0//EN
CALSCALE:GREGORIAN
METHOD:PUBLISH
X-WR-CALNAME:Mikel Piano
X-ORIGINAL-URL:https://mikelpiano.com
X-WR-CALDESC:Eventos para Mikel Piano
REFRESH-INTERVAL;VALUE=DURATION:PT1H
X-Robots-Tag:noindex
X-PUBLISHED-TTL:PT1H
BEGIN:VTIMEZONE
TZID:UTC
BEGIN:STANDARD
TZOFFSETFROM:+0000
TZOFFSETTO:+0000
TZNAME:UTC
DTSTART:20240101T000000
END:STANDARD
END:VTIMEZONE
BEGIN:VEVENT
DTSTART;TZID=UTC:20251220T200000
DTEND;TZID=UTC:20251220T210000
DTSTAMP:20260419T152143
CREATED:20251213T065715Z
LAST-MODIFIED:20251213T065715Z
UID:2204-1766260800-1766264400@mikelpiano.com
SUMMARY:Coro Kirikiño en Elorrio
DESCRIPTION:Estaré acompañando al Coro Kirikiño en su concierto en Elorrio.
URL:https://mikelpiano.com/evento/coro-kirikino-en-elorrio/
LOCATION:convento Santa Ana\, Elorrio\, Bizkaia\, Spain
ATTACH;FMTTYPE=image/jpeg:https://mikelpiano.com/wp-content/uploads/2025/12/IMG_2598.jpeg
END:VEVENT
END:VCALENDAR