BEGIN:VCALENDAR
VERSION:2.0
PRODID:-//Mikel Piano - ECPv6.15.20//NONSGML v1.0//EN
CALSCALE:GREGORIAN
METHOD:PUBLISH
X-ORIGINAL-URL:https://mikelpiano.com
X-WR-CALDESC:Eventos para Mikel Piano
REFRESH-INTERVAL;VALUE=DURATION:PT1H
X-Robots-Tag:noindex
X-PUBLISHED-TTL:PT1H
BEGIN:VTIMEZONE
TZID:UTC
BEGIN:STANDARD
TZOFFSETFROM:+0000
TZOFFSETTO:+0000
TZNAME:UTC
DTSTART:20240101T000000
END:STANDARD
END:VTIMEZONE
BEGIN:VEVENT
DTSTART;TZID=UTC:20250306T193000
DTEND;TZID=UTC:20250306T210000
DTSTAMP:20260420T053806
CREATED:20250209T090042Z
LAST-MODIFIED:20250228T100639Z
UID:1804-1741289400-1741294800@mikelpiano.com
SUMMARY:Concierto Lighthouse trio en Bilbao
DESCRIPTION:El mejor plan para este jueves en Bilbao. Música en directo\, clásicos del rock en formato acústico. Piano-guitarra-voz-contrabajo.
URL:https://mikelpiano.com/evento/concierto-lighthouse-trio-en-bilbao/
LOCATION:Bar San Marcos\, Alda. Recalde 47A\, Bilbao\, Bizkaia\, 48010\, Spain
ATTACH;FMTTYPE=image/jpeg:https://mikelpiano.com/wp-content/uploads/2025/02/San-Marcos-Cartel-06032025_page-0001.jpg
ORGANIZER;CN="Mikel Gazta%C3%B1aga":MAILTO:mikelpiano@yahoo.com
END:VEVENT
BEGIN:VEVENT
DTSTART;TZID=UTC:20250308T183000
DTEND;TZID=UTC:20250308T200000
DTSTAMP:20260420T053806
CREATED:20250123T101740Z
LAST-MODIFIED:20250228T095903Z
UID:1792-1741458600-1741464000@mikelpiano.com
SUMMARY:Concierto BiHotsak "8M" Menagarai
DESCRIPTION:No os perdáis este concierto de coros en Llodio \nEste sábado\, os invitamos a una tarde de música coral en  Menagarai. Un plan perfecto para compartir música y emociones en familia. ¡Os esperamos para vivir una experiencia inolvidable!
URL:https://mikelpiano.com/evento/concierto-coro-llodio/
LOCATION:Iglesia Menagarai\, Menagarai\, Alava\, 01477\, Spain
ATTACH;FMTTYPE=image/jpeg:https://mikelpiano.com/wp-content/uploads/2025/01/cartel.jpg
ORGANIZER;CN="Mikel Gazta%C3%B1aga":MAILTO:mikelpiano@yahoo.com
END:VEVENT
BEGIN:VEVENT
DTSTART;TZID=UTC:20250315T140000
DTEND;TZID=UTC:20250315T150000
DTSTAMP:20260420T053806
CREATED:20250123T102341Z
LAST-MODIFIED:20250228T100846Z
UID:1798-1742047200-1742050800@mikelpiano.com
SUMMARY:Pianista en Boda
DESCRIPTION:La mejor manera de celebrar tu boda en 2025: duo de violín y piano en directo amenizando la ceremonia en un entorno único en Bilbao.
URL:https://mikelpiano.com/evento/pianista-en-boda/
LOCATION:Iglesia San Jose Bilbao\, Plaza San Jose 1\, Bilbao\, Bizkaia\, 48009\, Spain
ATTACH;FMTTYPE=image/jpeg:https://mikelpiano.com/wp-content/uploads/2024/12/close-up-piano-front-performance-space-scaled.jpg
ORGANIZER;CN="Mikel Gazta%C3%B1aga":MAILTO:mikelpiano@yahoo.com
END:VEVENT
BEGIN:VEVENT
DTSTART;TZID=UTC:20250322T200000
DTEND;TZID=UTC:20250322T213000
DTSTAMP:20260420T053806
CREATED:20250123T101928Z
LAST-MODIFIED:20250311T192428Z
UID:1796-1742673600-1742679000@mikelpiano.com
SUMMARY:Concierto BiHotsak Llodio
DESCRIPTION:No os perdáis este concierto de coros en Llodio \nEste sábado\, os invitamos a una tarde-noche de música coral en  Llodio. Un plan perfecto para compartir música y emociones en familia. ¡Os esperamos para vivir una experiencia inolvidable!
URL:https://mikelpiano.com/evento/concierto-bihotsak-22m-llodio/
LOCATION:iglesia san pedro laudio\, Llodio\, Spain
ATTACH;FMTTYPE=image/jpeg:https://mikelpiano.com/wp-content/uploads/2025/01/IMG_0765.jpeg
ORGANIZER;CN="Mikel Gazta%C3%B1aga":MAILTO:mikelpiano@yahoo.com
END:VEVENT
BEGIN:VEVENT
DTSTART;TZID=UTC:20250329T180000
DTEND;TZID=UTC:20250329T210000
DTSTAMP:20260420T053806
CREATED:20250324T053726Z
LAST-MODIFIED:20250324T053726Z
UID:1832-1743271200-1743282000@mikelpiano.com
SUMMARY:Stereo Star Band en Berantevilla
DESCRIPTION:Banda de versiones para tu evento privado\, boda\, celebración\, cocktail de empresa…
URL:https://mikelpiano.com/evento/stereo-star-band-en-berantevilla/
LOCATION:Berantevilla\, Berantevilla\, Spain
ATTACH;FMTTYPE=image/png:https://mikelpiano.com/wp-content/uploads/2025/03/IMG_0805.png
ORGANIZER;CN="Mikel Gazta%C3%B1aga":MAILTO:mikelpiano@yahoo.com
END:VEVENT
END:VCALENDAR