BEGIN:VCALENDAR
VERSION:2.0
PRODID:-//Mikel Piano - ECPv6.15.20//NONSGML v1.0//EN
CALSCALE:GREGORIAN
METHOD:PUBLISH
X-ORIGINAL-URL:https://mikelpiano.com
X-WR-CALDESC:Eventos para Mikel Piano
REFRESH-INTERVAL;VALUE=DURATION:PT1H
X-Robots-Tag:noindex
X-PUBLISHED-TTL:PT1H
BEGIN:VTIMEZONE
TZID:UTC
BEGIN:STANDARD
TZOFFSETFROM:+0000
TZOFFSETTO:+0000
TZNAME:UTC
DTSTART:20240101T000000
END:STANDARD
END:VTIMEZONE
BEGIN:VEVENT
DTSTART;TZID=UTC:20250704T200000
DTEND;TZID=UTC:20250704T223000
DTSTAMP:20260419T223224
CREATED:20250619T092134Z
LAST-MODIFIED:20250619T092750Z
UID:1908-1751659200-1751668200@mikelpiano.com
SUMMARY:Cocktail Jazz 4 julio
DESCRIPTION:Cuarteto de jazz en directo amenizando el cocktail en un entorno único en Santander. \nSe trata de un evento privado (Embajada U.S.A.) con motivo de la celebración del 4 de julio.
URL:https://mikelpiano.com/evento/cocktail-4jul/
LOCATION:Gran Casino Sardinero\, Plaza Italia\, Santander\, Cantabria\, 39005\, Spain
ATTACH;FMTTYPE=image/jpeg:https://mikelpiano.com/wp-content/uploads/2025/06/imag.jpg
END:VEVENT
BEGIN:VEVENT
DTSTART;TZID=UTC:20250713T130000
DTEND;TZID=UTC:20250713T140000
DTSTAMP:20260419T223224
CREATED:20250619T091247Z
LAST-MODIFIED:20250619T091309Z
UID:1906-1752411600-1752415200@mikelpiano.com
SUMMARY:Concierto Coral Jolaseta
DESCRIPTION:Acompañamiento del coro de Jolaseta. Evento privado exclusivo para personas socias del club.
URL:https://mikelpiano.com/evento/concierto-coral-jolaseta/
LOCATION:Jolaseta\, Avda Chopos 18\, Getxo\, Bizkaia\, 48992\, Spain
ATTACH;FMTTYPE=image/jpeg:https://mikelpiano.com/wp-content/uploads/2025/05/jolaseta.jpg
END:VEVENT
END:VCALENDAR